BEGIN:VCALENDAR
VERSION:2.0
PRODID:-//DTFC Club Shop - ECPv6.15.11//NONSGML v1.0//EN
CALSCALE:GREGORIAN
METHOD:PUBLISH
X-ORIGINAL-URL:https://shop.dealtownfc.com
X-WR-CALDESC:Events for DTFC Club Shop
REFRESH-INTERVAL;VALUE=DURATION:PT1H
X-Robots-Tag:noindex
X-PUBLISHED-TTL:PT1H
BEGIN:VTIMEZONE
TZID:Europe/London
BEGIN:DAYLIGHT
TZOFFSETFROM:+0000
TZOFFSETTO:+0100
TZNAME:BST
DTSTART:20240331T010000
END:DAYLIGHT
BEGIN:STANDARD
TZOFFSETFROM:+0100
TZOFFSETTO:+0000
TZNAME:GMT
DTSTART:20241027T010000
END:STANDARD
BEGIN:DAYLIGHT
TZOFFSETFROM:+0000
TZOFFSETTO:+0100
TZNAME:BST
DTSTART:20250330T010000
END:DAYLIGHT
BEGIN:STANDARD
TZOFFSETFROM:+0100
TZOFFSETTO:+0000
TZNAME:GMT
DTSTART:20251026T010000
END:STANDARD
BEGIN:DAYLIGHT
TZOFFSETFROM:+0000
TZOFFSETTO:+0100
TZNAME:BST
DTSTART:20260329T010000
END:DAYLIGHT
BEGIN:STANDARD
TZOFFSETFROM:+0100
TZOFFSETTO:+0000
TZNAME:GMT
DTSTART:20261025T010000
END:STANDARD
END:VTIMEZONE
BEGIN:VEVENT
DTSTART;TZID=Europe/London:20250715T193000
DTEND;TZID=Europe/London:20250715T220000
DTSTAMP:20260423T223924
CREATED:20250514T193548Z
LAST-MODIFIED:20250715T180551Z
UID:2798-1752607800-1752616800@shop.dealtownfc.com
SUMMARY:Deal Town v Gillingham XI
DESCRIPTION:Deal kick off their home preseason friendlies when a Gillingham XI visit The Charles Ground on 15th July. Kick off is at 7.30 pm. \nBy purchasing a match ticket you will be asked to agree with the Deal Town FC Tickets and Terms of Sale \nPlease also view the QR Code Match Tickets – FAQ \n  \nAddress: The Charles Ground\, St Leonard’s Road\, Deal\, Kent\, CT14 9AU. \nAdmission: Adults £6\, Concessions £3\, Under 18s-U15s £3 & U14s Free \nParking: Limited parking is available at the ground however please be mindful if not able to park within the ground be considerate around the surrounding roads being respectful to our neighbours \nTrain Station: The nearest train station is Deal which is approximately a 20 minute walk to the ground. \nGround entrance: Entrance to the group is on St Leonard’s Road. \nFood and drink: There are two bars at the ground and food and drink is available
URL:https://shop.dealtownfc.com/event/deal-town-v-gillingham-xi/
LOCATION:The Charles Ground\, St Leonards Road\, Deal\, Kent\, CT14 9AU\, United Kingdom
CATEGORIES:Match Tickets
ATTACH;FMTTYPE=image/jpeg:https://shop.dealtownfc.com/wp-content/uploads/2025/05/2024-155.jpeg
END:VEVENT
BEGIN:VEVENT
DTSTART;TZID=Europe/London:20250722T194500
DTEND;TZID=Europe/London:20250722T220000
DTSTAMP:20260423T223924
CREATED:20250514T193818Z
LAST-MODIFIED:20250718T194104Z
UID:2800-1753213500-1753221600@shop.dealtownfc.com
SUMMARY:Deal Town v Kennington
DESCRIPTION:Kennington FC visit The Charles Ground on 22nd July for a Friendly. Kick off is at 7.45 pm. \nBy purchasing a match ticket you will be asked to agree with the Deal Town FC Tickets and Terms of Sale \nPlease also view the QR Code Match Tickets – FAQ \n  \nAddress: The Charles Ground\, St Leonard’s Road\, Deal\, Kent\, CT14 9AU. \nAdmission: Adults £6\, Concessions £3\, Under 18s-U15s £3 & U14s Free \nParking: Limited parking is available at the ground however please be mindful if not able to park within the ground be considerate around the surrounding roads being respectful to our neighbours \nTrain Station: The nearest train station is Deal which is approximately a 20 minute walk to the ground. \nGround entrance: Entrance to the group is on St Leonard’s Road. \nFood and drink: There are two bars at the ground and food and drink is available
URL:https://shop.dealtownfc.com/event/deal-town-v-kennington/
LOCATION:The Charles Ground\, St Leonards Road\, Deal\, Kent\, CT14 9AU\, United Kingdom
CATEGORIES:Match Tickets
ATTACH;FMTTYPE=image/jpeg:https://shop.dealtownfc.com/wp-content/uploads/2025/05/2024-291-scaled.jpeg
END:VEVENT
BEGIN:VEVENT
DTSTART;TZID=Europe/London:20250729T194500
DTEND;TZID=Europe/London:20250729T220000
DTSTAMP:20260423T223924
CREATED:20250514T194018Z
LAST-MODIFIED:20250729T121510Z
UID:2802-1753818300-1753826400@shop.dealtownfc.com
SUMMARY:Deal Town v Lordswood
DESCRIPTION:Deal welcome Lordswood Football Club for a pre season friendly at the Charles Ground on 29th July. \nKick off is at 7.45 pm. \nBy purchasing a match ticket you will be asked to agree with the Deal Town FC Tickets and Terms of Sale \nPlease also view the QR Code Match Tickets – FAQ \n  \nAddress: The Charles Ground\, St Leonard’s Road\, Deal\, Kent\, CT14 9AU. \nAdmission: Adults £6\, Concessions £3\, Under 18s-U15s £3 & U14s Free \nParking: Limited parking is available at the ground however please be mindful if not able to park within the ground be considerate around the surrounding roads being respectful to our neighbours \nTrain Station: The nearest train station is Deal which is approximately a 20 minute walk to the ground. \nGround entrance: Entrance to the group is on St Leonard’s Road. \nFood and drink: There are two bars at the ground and food and drink is available \n  \n 
URL:https://shop.dealtownfc.com/event/deal-town-v-lordswood/
LOCATION:The Charles Ground\, St Leonards Road\, Deal\, Kent\, CT14 9AU\, United Kingdom
CATEGORIES:Match Tickets
ATTACH;FMTTYPE=image/jpeg:https://shop.dealtownfc.com/wp-content/uploads/2025/05/2024-265-scaled.jpeg
END:VEVENT
END:VCALENDAR