BEGIN:VCALENDAR
VERSION:2.0
PRODID:-//DTFC Club Shop - ECPv6.15.11//NONSGML v1.0//EN
CALSCALE:GREGORIAN
METHOD:PUBLISH
X-ORIGINAL-URL:https://shop.dealtownfc.com
X-WR-CALDESC:Events for DTFC Club Shop
REFRESH-INTERVAL;VALUE=DURATION:PT1H
X-Robots-Tag:noindex
X-PUBLISHED-TTL:PT1H
BEGIN:VTIMEZONE
TZID:Europe/London
BEGIN:DAYLIGHT
TZOFFSETFROM:+0000
TZOFFSETTO:+0100
TZNAME:BST
DTSTART:20240331T010000
END:DAYLIGHT
BEGIN:STANDARD
TZOFFSETFROM:+0100
TZOFFSETTO:+0000
TZNAME:GMT
DTSTART:20241027T010000
END:STANDARD
BEGIN:DAYLIGHT
TZOFFSETFROM:+0000
TZOFFSETTO:+0100
TZNAME:BST
DTSTART:20250330T010000
END:DAYLIGHT
BEGIN:STANDARD
TZOFFSETFROM:+0100
TZOFFSETTO:+0000
TZNAME:GMT
DTSTART:20251026T010000
END:STANDARD
BEGIN:DAYLIGHT
TZOFFSETFROM:+0000
TZOFFSETTO:+0100
TZNAME:BST
DTSTART:20260329T010000
END:DAYLIGHT
BEGIN:STANDARD
TZOFFSETFROM:+0100
TZOFFSETTO:+0000
TZNAME:GMT
DTSTART:20261025T010000
END:STANDARD
END:VTIMEZONE
BEGIN:VEVENT
DTSTART;TZID=Europe/London:20250913T150000
DTEND;TZID=Europe/London:20250913T170000
DTSTAMP:20260423T105213
CREATED:20250901T191028Z
LAST-MODIFIED:20250903T131426Z
UID:3951-1757775600-1757782800@shop.dealtownfc.com
SUMMARY:Deal Town vs Egham Town
DESCRIPTION:Deal Town host Egham Town in the Second Qualifying Round on Saturday\, 13th September 2025. \nView the whole match preview. \nBy purchasing a match ticket you will be asked to agree with the Deal Town FC Tickets and Terms of Sale \nView also the QR Code Match Tickets – FAQ to help explain the process and any questions you may have. \nADMISSION: Adults £10\, Concessions £6\, Under 18s-U15s £4 & U14s Free. \nTickets can be purchased on the gate with cash or card and can also be purchased in advance via the match tickets section of the website. \nSEASON TICKETS: Not valid for this fixture. \nPARKING: Limited parking is available at the ground however please be mindful if not able to park within the ground be considerate around the surrounding roads being respectful to our neighbours \nTRAIN STATION: The nearest train station is Deal which is approximately a 20 minute walk to the ground. \nGROUND ENTRANCE: Entrance to the ground is via St Leonard’s Road. \nFOOD & DRINK: There are three bars at the ground; please utilise all outlets to ensure smooth operations. Food courtesy of the Burger Box boys. \nPROGRAMME: A match day programme is available for £3 which is available at the gate (while stocks last) a digital version can also be purchased online via the online club shop.
URL:https://shop.dealtownfc.com/event/deal-town-vs-egham-town/
LOCATION:The Charles Ground\, St Leonards Road\, Deal\, Kent\, CT14 9AU\, United Kingdom
CATEGORIES:Match Tickets
ATTACH;FMTTYPE=image/jpeg:https://shop.dealtownfc.com/wp-content/uploads/2025/09/G-B44I9330-scaled.jpg
END:VEVENT
BEGIN:VEVENT
DTSTART;TZID=Europe/London:20250920T150000
DTEND;TZID=Europe/London:20250920T170000
DTSTAMP:20260423T105213
CREATED:20250910T085539Z
LAST-MODIFIED:20250915T122140Z
UID:3980-1758380400-1758387600@shop.dealtownfc.com
SUMMARY:Deal Town v Ashford United
DESCRIPTION:Deal’s game in the FA Trophy against Ashford United at The Charles Ground on 20th September 2025. Kick off is at 3.00 pm. \nView the whole match preview. \nBy purchasing a match ticket you will be asked to agree with the Deal Town FC Tickets and Terms of Sale. \nPlease also view the QR Code Match Tickets FAQ \nAddress: The Charles Ground\, St Leonard’s Road\, Deal\, Kent\, CT14 9AU \nADMISSION: Adults £10\, Concessions £6\, Under 18s-U15s £4 & U14s Free. \nTickets can be purchased on the gate with cash or card and can also be purchased in advance via the match tickets section of the website. \nSEASON TICKETS: Unfortunately are not permitted for this fixture\, due to FA Competition rules. \nPARKING: Limited parking is available at the ground however please be mindful if not able to park within the ground be considerate around the surrounding roads being respectful to our neighbours \nTRAIN STATION: The nearest train station is Deal which is approximately a 20 minute walk to the ground. \nGROUND ENTRANCE: Entrance to the ground is via St Leonard’s Road. \nFOOD & DRINK: There are three available bars at the ground; please try to use all outlets to ease queuing. Food will be available courtesy of Burger Box Kent. \nPROGRAMME: A match day programme is available for £3 which is available at the gate (while stocks last) a digital version can also be purchased online via the online club shop. \n 
URL:https://shop.dealtownfc.com/event/deal-town-v-ashford-united/
LOCATION:The Charles Ground\, St Leonards Road\, Deal\, Kent\, CT14 9AU\, United Kingdom
CATEGORIES:Match Tickets
ATTACH;FMTTYPE=image/jpeg:https://shop.dealtownfc.com/wp-content/uploads/2025/09/H-B44I0608-scaled.jpg
END:VEVENT
END:VCALENDAR